BEGIN:VCALENDAR
BEGIN:VEVENT
SUMMARY:Beeyotch\, Tiers La Familia\, Cities Unexpected Field [nycnoise]
DTSTART:20260117T000000Z
DTEND:20260117T010000Z
UID:789e4a59-be94-4c56-8497-b1828cd11053
CREATED:20260425T164846Z
DESCRIPTION:"holistic soundbath of Capricornical Rock n&rsquo\; Roll 2026 
 waves of profane &amp\; urbane noise"
LOCATION:sleepwalk (251 bushwick ave\, brooklyn)
END:VEVENT
END:VCALENDAR
