BEGIN:VCALENDAR
BEGIN:VEVENT
SUMMARY:Ryley Walker\, Nick Malkin\, Pregnancy [nycnoise]
DTSTART:20260109T000000Z
DTEND:20260109T010000Z
UID:a7c16ef2-5caf-4b70-84f6-5b5824fdc250
CREATED:20260425T165040Z
DESCRIPTION:7pm doors
LOCATION:union pool (484 union ave\, brooklyn)
END:VEVENT
END:VCALENDAR
