BEGIN:VCALENDAR
BEGIN:VEVENT
SUMMARY:Tiny Slices: Nina Gold\, Claire de Brunner\, Neda Zahraie\, 5 Minu
 te Stories [nycnoise]
DTSTART:20260126T000000Z
DTEND:20260126T010000Z
UID:858cc637-cf55-44d0-94ab-b4d266589d57
CREATED:20260425T165141Z
DESCRIPTION:6pm vegan potluck\, 7pm words music performance\, "bring a sto
 ry to share"
LOCATION:wee space
END:VEVENT
END:VCALENDAR
