BEGIN:VCALENDAR
BEGIN:VEVENT
SUMMARY:free noisy punk show: Penny\, Tylenol\, Kortex [nycnoise]
DTSTART:20260110T010000Z
DTEND:20260110T020000Z
UID:bf3e3ac6-1596-47ee-93a2-110ce34ec711
CREATED:20260425T164933Z
DESCRIPTION:time on insta
LOCATION:freddy's (627 5th ave\, brooklyn)
END:VEVENT
END:VCALENDAR
