BEGIN:VCALENDAR
BEGIN:VEVENT
SUMMARY:Vance Provey & the Truth Ensemble [nycnoise]
DTSTART:20260201T010000Z
DTEND:20260201T020000Z
UID:8eefd835-79e6-48d3-b5f9-cd66883139e9
CREATED:20260425T165141Z
DESCRIPTION:VP w/ Dennis Warren\, Eric Zinman\, Tor Snyder\, Albey Balgoch
 ian
LOCATION:loove annex (238 N 12th St\, Brooklyn\, NY 11211)
END:VEVENT
END:VCALENDAR
