BEGIN:VCALENDAR
BEGIN:VEVENT
SUMMARY:George Steel\, Darsie\, Robber Crabs\, Alana Markel [nycnoise]
DTSTART:20260108T000000Z
DTEND:20260108T010000Z
UID:5c1e3f22-5ca9-4fc8-8a19-8d51aeacb87b
CREATED:20260425T165006Z
DESCRIPTION:6:30pm doors
LOCATION:night club 101 (101 avenue a\, manhattan)
END:VEVENT
END:VCALENDAR
