BEGIN:VCALENDAR
BEGIN:VEVENT
SUMMARY:Cache Machine: Lydo\, C. Lavender [nycnoise]
DTSTART:20260117T000000Z
DTEND:20260117T010000Z
UID:2571ab29-ebd2-490b-94c7-1a28b0b82a46
CREATED:20260425T165300Z
DESCRIPTION:"performers will play through the exhibitions central 62-chann
 el wavefield synthesis speaker array\, as part of [Ben Shirken's] Cache Ma
 chine\, a larger project investigating the onslaught of transient digital 
 material amassing in contemporary life"
LOCATION:kaje (74 15th st.\, brooklyn)
END:VEVENT
END:VCALENDAR
