BEGIN:VCALENDAR
BEGIN:VEVENT
SUMMARY:Ben Shirken: 'Cache Machine' Opening (multimedia installation) [ny
 cnoise]
DTSTART:20260110T230000Z
DTEND:20260111T000000Z
UID:02db2b5c-4fbd-4353-96d0-2e3badda7333
CREATED:20260425T165003Z
DESCRIPTION:not live\; "an assemblage of curated components that {generate
 \, delete\, overwrite\, denoise\, renoise\, block\, amplify\, spatialize} 
 &ndash\; a set of computational moves choreographed into a generative soun
 dscape"
LOCATION:kaje (74 15th st.\, brooklyn)
END:VEVENT
END:VCALENDAR
