BEGIN:VCALENDAR
BEGIN:VEVENT
SUMMARY:Jeff Pearring / Shu Odamura / Phil Sirois / Ken Kobayashi [nycnois
 e]
DTSTART:20260120T010000Z
DTEND:20260120T020000Z
UID:180cdd30-30b9-443f-86ab-36f31c7e36ae
CREATED:20260425T165214Z
DESCRIPTION:
LOCATION:cassette (68-38 forest ave bsmt\, ridgewood)
END:VEVENT
END:VCALENDAR
