BEGIN:VCALENDAR
BEGIN:VEVENT
SUMMARY:DMG Free Tues: Dan Kurfirst / Daniel Carter / Stelios Mihas / Adam
  Lane\, Henry Sutter / Will Curry / Matei Predescu\, Aidan O'Connell & Mat
 t Knoegel [nycnoise]
DTSTART:20260120T233000Z
DTEND:20260121T003000Z
UID:6190b0ce-afe5-4048-8b36-cd4b3572bd25
CREATED:20260425T165213Z
DESCRIPTION:
LOCATION:downtown music gallery (13 monroe st.\, manhattan)
END:VEVENT
END:VCALENDAR
