BEGIN:VCALENDAR
BEGIN:VEVENT
SUMMARY:DMG Free Tues: Solos & Trio: Steve Swell\, Sara Schoenbeck\, Elihu
  S. Conant-Haque\, Spirit Brass Trio [nycnoise]
DTSTART:20260203T233000Z
DTEND:20260204T003000Z
UID:dd98fa8f-d15f-49d1-80ee-986f187c9c98
CREATED:20260425T145110Z
DESCRIPTION:
LOCATION:downtown music gallery (13 monroe st.\, manhattan)
END:VEVENT
END:VCALENDAR
