BEGIN:VCALENDAR
BEGIN:VEVENT
SUMMARY:DMG Free Tues: Patrick Golden & Kevin Shea Drum Duo\, Sylvain Lero
 ux / Hill Greene / Dan Kurfirst\, Hilliard Greene / James Keepnews / Rosi 
 Hertlein [nycnoise]
DTSTART:20260210T233000Z
DTEND:20260211T003000Z
UID:53dd6d3d-f8f3-494e-84e1-24f90ec599e7
CREATED:20260425T145151Z
DESCRIPTION:
LOCATION:downtown music gallery (13 monroe st.\, manhattan)
END:VEVENT
END:VCALENDAR
