BEGIN:VCALENDAR
BEGIN:VEVENT
SUMMARY:DMG Free Tues: Adam Lane Electric Band\, Kris Gruda & Emily Hay\, 
 Rich Rosenthal / Nick Gianni / Kevin Tkacz / Michael Paoli [nycnoise]
DTSTART:20260303T233000Z
DTEND:20260304T003000Z
UID:fb25e733-25ae-4a07-8fff-1867f93a4e43
CREATED:20260425T130852Z
DESCRIPTION:ALEB w/ Nick Lyons\, Adam Caine\, Vijay Anderson
LOCATION:downtown music gallery (13 monroe st.\, manhattan)
END:VEVENT
END:VCALENDAR
