BEGIN:VCALENDAR
BEGIN:VEVENT
SUMMARY:SODOMAHIGAMORRA\, PATAGIAL VIEL\, CAZADORY\, DANNY TANTRUM [nycnoi
 se]
DTSTART:20260117T030000Z
DTEND:20260117T040000Z
UID:365857e1-3860-405b-ad89-542918972a08
CREATED:20260425T164932Z
DESCRIPTION:"NOISE AMBIENT DOLLS MUSIC"
LOCATION:happyfun hideaway (1211 Myrtle Ave\, Brooklyn\, NY 11221)
END:VEVENT
END:VCALENDAR
