BEGIN:VCALENDAR
BEGIN:VEVENT
SUMMARY:Respekt Music presents: N/UM & Daniel Carter (Record Release)\, Na
 vbox [nycnoise]
DTSTART:20260206T000000Z
DTEND:20260206T010000Z
UID:ad5704f3-29fc-4cdd-9a18-001f864a1653
CREATED:20260425T145020Z
DESCRIPTION:N/UM: Jeremy Loucas\, Elias Meister\, Emil Bovbjerg ft. our fa
 ve DC\; album on bandcamp
LOCATION:public records (233 butler st.\, brooklyn)
END:VEVENT
END:VCALENDAR
