BEGIN:VCALENDAR
BEGIN:VEVENT
SUMMARY:Area X: Seelie\, Tomen\, dj33L\, Burtay (live)\, stress tess\, Noc
 tus [nycnoise]
DTSTART:20260125T030000Z
DTEND:20260125T040000Z
UID:30302e0c-652e-4b21-99c6-2355aedc1676
CREATED:20260425T165230Z
DESCRIPTION:ACCESS: 21+ 📶 💡 1 flight stairs\, strobes
LOCATION:<p><strong>tix for address&nbsp\;</strong>(21+)\, east williamsbu
 rg\, bklyn</p>
END:VEVENT
END:VCALENDAR
