BEGIN:VCALENDAR
BEGIN:VEVENT
SUMMARY:Anti Music Noise Gig: Ryosuke Kiyasu\, Weenus\, Echo Chamber\, Bla
 ckstone\, No Real Music [nycnoise]
DTSTART:20260303T000000Z
DTEND:20260303T010000Z
UID:6fb38691-be66-417f-b824-c3cad1f13dc9
CREATED:20260425T130548Z
DESCRIPTION:
LOCATION:broadway (1272 broadway\, brooklyn)
END:VEVENT
END:VCALENDAR
