BEGIN:VCALENDAR
BEGIN:VEVENT
SUMMARY:Phantom Tollbooth\, Skull Practitioners\, Upper Wilds\, Whimbrels 
 [nycnoise]
DTSTART:20260329T000000Z
DTEND:20260329T010000Z
UID:cbd10e3f-cd79-48d8-b9f0-66b63802b137
CREATED:20260425T130958Z
DESCRIPTION:7pm doors
LOCATION:broadway (1272 broadway\, brooklyn)
END:VEVENT
END:VCALENDAR
