BEGIN:VCALENDAR
BEGIN:VEVENT
SUMMARY:Busboy\, Offal Bloom\, Meltykiss\, Trans Pecos [nycnoise]
DTSTART:20260208T003000Z
DTEND:20260208T013000Z
UID:394f35a2-4483-40e6-8b90-a23dba960a2f
CREATED:20260425T145149Z
DESCRIPTION:6:30pm doors
LOCATION:broadway (1272 broadway\, brooklyn)
END:VEVENT
END:VCALENDAR
