BEGIN:VCALENDAR
BEGIN:VEVENT
SUMMARY:COMMON.NOISE Fundraiser for Ridgewood Commons: Crystal Peñalosa\,
  M.A.L.A.\, Keefchamber\, Fulano\, Mount Right\, Maysun\, Princess Jesus [
 nycnoise]
DTSTART:20260125T230000Z
DTEND:20260126T000000Z
UID:c8501aa6-e30f-4a18-87aa-99ce5087ae3b
CREATED:20260425T165214Z
DESCRIPTION:"festival-style\, punk / noise / hardcore fundraiser for Ridge
 wood Commons [in the space fka woodbine]\, a local community space &amp\; 
 food pantry ... ticket sale proceeds donated to help the space continue to
  serve the community"
LOCATION:purgatory (675 central ave\, brooklyn)
END:VEVENT
END:VCALENDAR
