BEGIN:VCALENDAR
BEGIN:VEVENT
SUMMARY:Kiernan Laveaux will Present Sounds [nycnoise]
DTSTART:20260130T000000Z
DTEND:20260130T010000Z
UID:78f0b2df-b571-4e65-8444-e3154e4c8194
CREATED:20260425T165228Z
DESCRIPTION:🌀 notaflof work trade
LOCATION:light & sound design
END:VEVENT
END:VCALENDAR
