BEGIN:VCALENDAR
BEGIN:VEVENT
SUMMARY:Dada Strain: Bex Burch & Che Chen\, Shara Lunon\, siiiso (Gamma Vi
 bes & Lauren Yoon)\, Piotr Dada Strain (selections) [nycnoise]
DTSTART:20260125T000000Z
DTEND:20260125T010000Z
UID:75ef2858-c4e5-4241-a41b-7c82da11b68a
CREATED:20260425T165213Z
DESCRIPTION:🌀 notaflof work trade\; "produced w/ help of Creative Music
  Studios"
LOCATION:light & sound design
END:VEVENT
END:VCALENDAR
