BEGIN:VCALENDAR
BEGIN:VEVENT
SUMMARY:Austin\, The Sleeves (Jack Cooper & Tara Cunningham) [nycnoise]
DTSTART:20260125T210000Z
DTEND:20260125T220000Z
UID:111a8b0f-892f-4f29-9fef-194e6974ec7d
CREATED:20260425T165213Z
DESCRIPTION:🌀 notaflof work trade
LOCATION:light & sound design
END:VEVENT
END:VCALENDAR
