BEGIN:VCALENDAR
BEGIN:VEVENT
SUMMARY:Julie Hill\, Scott Colberg & Ken Shoji\, Erika Dohi [nycnoise]
DTSTART:20260129T010000Z
DTEND:20260129T020000Z
UID:5c2bdbcf-6532-46c2-9f07-b1b4a183920b
CREATED:20260425T165301Z
DESCRIPTION:🌀 notaflof work trade
LOCATION:light & sound design
END:VEVENT
END:VCALENDAR
