BEGIN:VCALENDAR
BEGIN:VEVENT
SUMMARY:Wormhole: Dirt\, Nic Rose & Jack Wright\, Tacet (Graham Lampe\, Se
 an Lawson\, Caroline Morton\, Cabe Teems) [nycnoise]
DTSTART:20260202T000000Z
DTEND:20260202T010000Z
UID:12556b3f-bd57-431d-ac5b-db5c6bf11df5
CREATED:20260425T145150Z
DESCRIPTION:first sundays\, co-curated by g&iacute\;an &amp\; SSAJ
LOCATION:brothers wash & dry laundromat (5420 nurge ave\, queens)
END:VEVENT
END:VCALENDAR
