BEGIN:VCALENDAR
BEGIN:VEVENT
SUMMARY:Tara Khozein + Gabriel Zucker\, Wendy Eisenberg\, Christian Cail [
 nycnoise]
DTSTART:20260216T000000Z
DTEND:20260216T010000Z
UID:b4e81780-3173-4c2d-baee-55fa4cbd297c
CREATED:20260425T145027Z
DESCRIPTION:
LOCATION:brothers wash & dry laundromat (5420 nurge ave\, queens)
END:VEVENT
END:VCALENDAR
