BEGIN:VCALENDAR
BEGIN:VEVENT
SUMMARY:PAULA T (Single Release)\, Polly Vinylchloryd\, CHARMANIA [nycnois
 e]
DTSTART:20260203T000000Z
DTEND:20260203T010000Z
UID:9624e191-5c2b-47b3-82c3-d136ad1959a2
CREATED:20260425T145237Z
DESCRIPTION:"dm @paulatartell if you can't afford tix"
LOCATION:night club 101 (101 avenue a\, manhattan)
END:VEVENT
END:VCALENDAR
