BEGIN:VCALENDAR
BEGIN:VEVENT
SUMMARY:Alex Zhang Hungtai\, Inbio\, Uzâ A’amo\, Televangelist [nycnois
 e]
DTSTART:20260131T000000Z
DTEND:20260131T010000Z
UID:500dff5b-58f9-49d9-9885-e45625c67180
CREATED:20260425T165231Z
DESCRIPTION:
LOCATION:subterranea at ridgewood presby church (59-14 70th ave\, ridgewoo
 d)
END:VEVENT
END:VCALENDAR
