BEGIN:VCALENDAR
BEGIN:VEVENT
SUMMARY:The A/V Party: Preston Spurlock (visuals)\, Alexander Michael (vin
 yl) [nycnoise]
DTSTART:20260124T030000Z
DTEND:20260124T040000Z
UID:671a2b0a-7028-4f18-9f42-405ff5d4e24b
CREATED:20260425T165303Z
DESCRIPTION:
LOCATION:idle mind tavern (623 Manhattan Ave\, Brooklyn\, NY 11222)
END:VEVENT
END:VCALENDAR
