BEGIN:VCALENDAR
BEGIN:VEVENT
SUMMARY:Scarlet Rae\, Zachshots [nycnoise]
DTSTART:20260121T000000Z
DTEND:20260121T010000Z
UID:abd05678-1785-4ef1-86ba-bdb9e746f1d7
CREATED:20260425T165231Z
DESCRIPTION:
LOCATION:public records (233 butler st.\, brooklyn)
END:VEVENT
END:VCALENDAR
