BEGIN:VCALENDAR
BEGIN:VEVENT
SUMMARY:Joan Sue\, Caroline Davis\, Nick Dunston\, Leo Chang (Album Releas
 e) [nycnoise]
DTSTART:20260125T010000Z
DTEND:20260125T020000Z
UID:e9cac03f-bd54-4a69-ba4c-509fa9655ac8
CREATED:20260425T165229Z
DESCRIPTION:7pm doors
LOCATION:edge space (457 Broome St\, New York\, NY 10013)
END:VEVENT
END:VCALENDAR
