BEGIN:VCALENDAR
BEGIN:VEVENT
SUMMARY:Ace Bandage\, Frida Kill\, Firstsex [nycnoise]
DTSTART:20260129T010000Z
DTEND:20260129T020000Z
UID:fc231783-a182-4ea4-a44f-b29d142a056b
CREATED:20260425T164934Z
DESCRIPTION:
LOCATION:tv eye (1647 Weirfield St\, Ridgewood\, NY 11385)
END:VEVENT
END:VCALENDAR
