BEGIN:VCALENDAR
BEGIN:VEVENT
SUMMARY:Martin Bisi / BC Studio 45th Anniversary Celebration: Voyeur\, Wee
 ping Icon\, Mems of Live Skull\, Bisi Collective\, Brittany Anjou & Yana D
 avidova\, & more [nycnoise]
DTSTART:20260220T003000Z
DTEND:20260220T013000Z
UID:7d4325c8-6c3c-4fbc-9a86-7df4fc7b4b0a
CREATED:20260425T145323Z
DESCRIPTION:
LOCATION:tv eye (1647 Weirfield St\, Ridgewood\, NY 11385)
END:VEVENT
END:VCALENDAR
