BEGIN:VCALENDAR
BEGIN:VEVENT
SUMMARY:False Harmonics #25: Nels Cline '70 is the New 70' (ft. Jimmy Rip\
 , Lee Ranaldo)\, EUCADEMIX [nycnoise]
DTSTART:20260226T010000Z
DTEND:20260226T020000Z
UID:6374fe07-e3f0-4032-950c-60ee372f49e8
CREATED:20260425T145324Z
DESCRIPTION:7pm doors
LOCATION:pioneer works (159 pioneer st.\, brooklyn)
END:VEVENT
END:VCALENDAR
