BEGIN:VCALENDAR
BEGIN:VEVENT
SUMMARY:Nice Try\, Kid #26: Omer Leibovitz / Jeff Berner / Tony Maimone / 
 Rob Heath [nycnoise]
DTSTART:20260127T010000Z
DTEND:20260127T020000Z
UID:7b34ecf7-c0d7-4ebe-a186-93ffa53cbba8
CREATED:20260425T165229Z
DESCRIPTION:"#avantgardedatenight of experimental &amp\; improvised music"
LOCATION:troost (1011 manhattan ave\, brooklyn)
END:VEVENT
END:VCALENDAR
