BEGIN:VCALENDAR
BEGIN:VEVENT
SUMMARY:Uptown Out: Implicit Arches (Miguel Frasconi\, Kurt Gottschalk\, W
 ill Glass\, Claire de Brunner\, & more) [nycnoise]
DTSTART:20260213T000000Z
DTEND:20260213T010000Z
UID:689c80fc-0168-4db2-b63f-639296089539
CREATED:20260425T145151Z
DESCRIPTION:should show at link asap
LOCATION:recirculation (876 Riverside Dr\, New York\, NY 10032)
END:VEVENT
END:VCALENDAR
