BEGIN:VCALENDAR
BEGIN:VEVENT
SUMMARY:Good Terms\, Shower Beers\, Samsara\, Husbandry [nycnoise]
DTSTART:20260223T230000Z
DTEND:20260224T000000Z
UID:f7d41275-f3cd-42af-8871-6919a3bf6ab5
CREATED:20260425T145237Z
DESCRIPTION:
LOCATION:meadows (17 meadow st.\, brooklyn)
END:VEVENT
END:VCALENDAR
