BEGIN:VCALENDAR
BEGIN:VEVENT
SUMMARY:Spontaneous Resonance: James McKain / Nic Rose / Evan Palmer / Mic
 hael Larocca\, Stan Zenkov / Eric Plaks / Zach Swanson / Ken Kobayashi [ny
 cnoise]
DTSTART:20260204T010000Z
DTEND:20260204T020000Z
UID:3a1d5c27-d122-498f-957b-98d317cd0698
CREATED:20260425T145324Z
DESCRIPTION:should show on ibeam site asap
LOCATION:ibeam (168 7th st.\, brooklyn)
END:VEVENT
END:VCALENDAR
