BEGIN:VCALENDAR
BEGIN:VEVENT
SUMMARY:LOOVE Electronics Series: Solos & Duo: Jaap Blonk & Jorrit Dijkstr
 a [nycnoise]
DTSTART:20260208T010000Z
DTEND:20260208T020000Z
UID:88026bce-e20d-4fb3-83bb-ebeabfb1d187
CREATED:20260425T145237Z
DESCRIPTION:"an evening of electronic improvisation"\; JD: "electronic wor
 k with lyricon &amp\; analog synthesizer alongside acoustic alto saxophone
 "\; u prolly know JB: voice\, laptop\, electronics
LOCATION:loove annex (238 N 12th St\, Brooklyn\, NY 11211)
END:VEVENT
END:VCALENDAR
