BEGIN:VCALENDAR
BEGIN:VEVENT
SUMMARY:(No More) Wire Hangrrr Fest [nycnoise]
DTSTART:20260215T200000Z
DTEND:20260215T210000Z
UID:610dba7d-f4eb-4df9-bbdb-bab029be9a6b
CREATED:20260425T145324Z
DESCRIPTION:"benefitting the Texas Equal Access Fund"
LOCATION:trans-pecos (9-15 wyckoff ave\, ridgewood)
END:VEVENT
END:VCALENDAR
