BEGIN:VCALENDAR
BEGIN:VEVENT
SUMMARY:Hot Singles in Your Area: moistbreezy\, EMMALINE\, DJ Trebuchet\, 
 DJ Ant\, TMFD\, BUNZ [nycnoise]
DTSTART:20260127T030000Z
DTEND:20260127T040000Z
UID:a914610a-d187-481e-88ac-977efc9710f0
CREATED:20260425T165215Z
DESCRIPTION:
LOCATION:bossa nova civic club (1271 myrtle ave\, brooklyn)
END:VEVENT
END:VCALENDAR
