BEGIN:VCALENDAR
BEGIN:VEVENT
SUMMARY:Peaer (Album Release)\, Wendy Eisenberg\, Kissy Noises [nycnoise]
DTSTART:20260131T030000Z
DTEND:20260131T040000Z
UID:1169cfcf-6256-473e-a53d-4ff0bc6a68d7
CREATED:20260425T165228Z
DESCRIPTION:
LOCATION:night club 101 (101 avenue a\, manhattan)
END:VEVENT
END:VCALENDAR
