BEGIN:VCALENDAR
BEGIN:VEVENT
SUMMARY:MAYSUN [nycnoise]
DTSTART:20260131T003000Z
DTEND:20260131T013000Z
UID:c040589e-185f-4a35-b50b-28cf1ff97434
CREATED:20260425T165215Z
DESCRIPTION:
LOCATION:reforesters laboratory (147 Metropolitan Ave\, Brooklyn\, NY 1124
 9)
END:VEVENT
END:VCALENDAR
