BEGIN:VCALENDAR
BEGIN:VEVENT
SUMMARY:Victoria Keddie & Chloe Alexandra Thompson [nycnoise]
DTSTART:20260221T000000Z
DTEND:20260221T010000Z
UID:a6f00489-2adc-41a6-afa2-b61b835282f0
CREATED:20260425T144941Z
DESCRIPTION:$15 early bird
LOCATION:reforesters laboratory (147 Metropolitan Ave\, Brooklyn\, NY 1124
 9)
END:VEVENT
END:VCALENDAR
