BEGIN:VCALENDAR
BEGIN:VEVENT
SUMMARY:$55 [nycnoise]
DTSTART:20260131T020000Z
DTEND:20260131T030000Z
UID:99df60c4-c558-424b-80d5-4a732ed317cd
CREATED:20260425T165040Z
DESCRIPTION:Future Forms: EREZ &amp\; Tanguay + DJs x3butterfly\, Seb Wild
 blood &amp\; more
LOCATION:national sawdust (80 n. 6th st.\, brooklyn)
END:VEVENT
END:VCALENDAR
