BEGIN:VCALENDAR
BEGIN:VEVENT
SUMMARY:Oeste\, Natasha S\, Count Uku\, Aliyah Rain\, King Porcelain\, Chr
 istian Solace [nycnoise]
DTSTART:20260203T000000Z
DTEND:20260203T010000Z
UID:6e8d4c92-42b4-499c-9c39-1524a4369d2a
CREATED:20260425T145322Z
DESCRIPTION:
LOCATION:brothers wash & dry laundromat (5420 nurge ave\, queens)
END:VEVENT
END:VCALENDAR
