BEGIN:VCALENDAR
BEGIN:VEVENT
SUMMARY:TBA [nycnoise]
DTSTART:20260218T010000Z
DTEND:20260218T020000Z
UID:ba4cb464-1a50-48e7-9bc7-59160604a7da
CREATED:20260425T144858Z
DESCRIPTION:lineup asap (submit info)
LOCATION:brothers wash & dry laundromat (5420 nurge ave\, queens)
END:VEVENT
END:VCALENDAR
