BEGIN:VCALENDAR
BEGIN:VEVENT
SUMMARY:Sunjay Jayaram\, Seajun Kwon & Jonathan Reisin\, Travis Bliss / Ni
 kita Manin / Brittany Karlson [nycnoise]
DTSTART:20260223T000000Z
DTEND:20260223T010000Z
UID:d38a1e3a-ccbf-4435-a25e-e2dc85bb16f4
CREATED:20260425T145330Z
DESCRIPTION:
LOCATION:brothers wash & dry laundromat (5420 nurge ave\, queens)
END:VEVENT
END:VCALENDAR
