BEGIN:VCALENDAR
BEGIN:VEVENT
SUMMARY:TBA [nycnoise]
DTSTART:20260301T010000Z
DTEND:20260301T020000Z
UID:e63b172e-3800-4c2d-9bb5-360e515ef961
CREATED:20260425T145236Z
DESCRIPTION:lineup asap (submit info)
LOCATION:brothers wash & dry laundromat (5420 nurge ave\, queens)
END:VEVENT
END:VCALENDAR
