BEGIN:VCALENDAR
BEGIN:VEVENT
SUMMARY:New Ear ::SPATIAL 014:: Sam Long\, Laura Wolf x Chloe Alexandra Th
 ompson\, Zamy Maa\, Hector Bravo Benard [nycnoise]
DTSTART:20260209T010000Z
DTEND:20260209T020000Z
UID:39011330-bfb0-49ec-ac0e-916cbe097de3
CREATED:20260425T145323Z
DESCRIPTION:
LOCATION:fridman gallery (169 bowery\, manhattan)
END:VEVENT
END:VCALENDAR
